BEGIN:VCALENDAR
VERSION:2.0
PRODID:-//Bremer Ruder-Club HANSA - ECPv6.15.20//NONSGML v1.0//EN
CALSCALE:GREGORIAN
METHOD:PUBLISH
X-WR-CALNAME:Bremer Ruder-Club HANSA
X-ORIGINAL-URL:https://www.brc-hansa.de
X-WR-CALDESC:Veranstaltungen für Bremer Ruder-Club HANSA
REFRESH-INTERVAL;VALUE=DURATION:PT1H
X-Robots-Tag:noindex
X-PUBLISHED-TTL:PT1H
BEGIN:VTIMEZONE
TZID:Europe/Paris
BEGIN:DAYLIGHT
TZOFFSETFROM:+0100
TZOFFSETTO:+0200
TZNAME:CEST
DTSTART:20250330T010000
END:DAYLIGHT
BEGIN:STANDARD
TZOFFSETFROM:+0200
TZOFFSETTO:+0100
TZNAME:CET
DTSTART:20251026T010000
END:STANDARD
BEGIN:DAYLIGHT
TZOFFSETFROM:+0100
TZOFFSETTO:+0200
TZNAME:CEST
DTSTART:20260329T010000
END:DAYLIGHT
BEGIN:STANDARD
TZOFFSETFROM:+0200
TZOFFSETTO:+0100
TZNAME:CET
DTSTART:20261025T010000
END:STANDARD
BEGIN:DAYLIGHT
TZOFFSETFROM:+0100
TZOFFSETTO:+0200
TZNAME:CEST
DTSTART:20270328T010000
END:DAYLIGHT
BEGIN:STANDARD
TZOFFSETFROM:+0200
TZOFFSETTO:+0100
TZNAME:CET
DTSTART:20271031T010000
END:STANDARD
END:VTIMEZONE
BEGIN:VEVENT
DTSTART;TZID=Europe/Paris:20260207T100000
DTEND;TZID=Europe/Paris:20260207T143000
DTSTAMP:20260423T105938
CREATED:20260117T204600Z
LAST-MODIFIED:20260117T204758Z
UID:8763-1770458400-1770474600@www.brc-hansa.de
SUMMARY:"Irgendwas mit Sport" in Bremerhaven
DESCRIPTION:Der Bremerhavener Ruderverein lädt wieder ein zu „Irgendwas mit Sport“ im Haus und ggf. auf dem Hof des Bremerhavener Rudervereins\, Stresemannstr. 51 in Bremerhaven.\n„Irgendwas mit Sport“ ist eine Team-Building-Maßnahme der Bremer Ruderjugend\, die aus dem Wunsch heraus entstanden ist\, dass vor allem potentielle BW-Kinder sich früher und besser kennenlernen und nicht erst beim BW das erste Mal mehr Zeit miteinander verbringen. Jüngere Kinder sind selbstverständlich auch gerne gesehen und dürfen genauso mitmachen. Weitere Infos sind  über unsere Kinder- und Jugendabteilung zu erfragen. \n 
URL:https://www.brc-hansa.de/veranstaltung/irgendwas-mit-sport-in-bremerhaven/
CATEGORIES:Kinder- und Jugendsport
END:VEVENT
BEGIN:VEVENT
DTSTART;TZID=Europe/Paris:20260208T103000
DTEND;TZID=Europe/Paris:20260208T120000
DTSTAMP:20260423T105938
CREATED:20260110T163348Z
LAST-MODIFIED:20260120T065128Z
UID:8740-1770546600-1770552000@www.brc-hansa.de
SUMMARY:Schnupper-Event für alle am Rudern Interessierte
DESCRIPTION:Du möchtest herausfinden\, ob Rudern der passende Sport für dich ist? Dann komm zum Schnuppern bei uns im Club vorbei. \nAn diesem Tag stehen dir die Türen in unserem Club offen und unsere ehrenamtlichen Ausbilder:innen beantworten dir gerne deine Fragen rund um den Rudersport. Der Tag soll dir dazu dienen\, ganz ungezwungen die Ruderbewegung auszuprobieren. \nKomme gerne direkt in Sportkleidung vorbei. Wenn du magst\, bringt auch etwas Bargeld mit. Unsere ehrenamtlichen Helfer:innen organisieren einen Kaffee- & Kuchenverkauf gegen eine kleine Spende. \nWir empfehlen allen\, die sich in diesem Jahr für einen Ruderkurs anmelden möchten\, beim Schnupper-Event vorbeizuschauen. Weitere wichtige Infos findest du hier.
URL:https://www.brc-hansa.de/veranstaltung/schnupper-event-fuer-interessierte-erwachsene/
LOCATION:BRC Hansa\, Werderstraße 64\, Bremen\, 28199
CATEGORIES:Kinder- und Jugendsport,Ruderkurse
END:VEVENT
BEGIN:VEVENT
DTSTART;TZID=Europe/Paris:20260219T190000
DTEND;TZID=Europe/Paris:20260219T210000
DTSTAMP:20260423T105938
CREATED:20260106T174002Z
LAST-MODIFIED:20260106T174002Z
UID:8724-1771527600-1771534800@www.brc-hansa.de
SUMMARY:Versammlung der Damenabteilung
DESCRIPTION:Nähere Infos folgen.
URL:https://www.brc-hansa.de/veranstaltung/versammlung-der-damenabteilung-2/
LOCATION:BRC Hansa\, Werderstraße 64\, Bremen\, 28199
CATEGORIES:Damensitzung
END:VEVENT
BEGIN:VEVENT
DTSTART;TZID=Europe/Paris:20260225T190000
DTEND;TZID=Europe/Paris:20260225T210000
DTSTAMP:20260423T105938
CREATED:20260121T205153Z
LAST-MODIFIED:20260121T205153Z
UID:8774-1772046000-1772053200@www.brc-hansa.de
SUMMARY:Vorstandssitzung
DESCRIPTION:
URL:https://www.brc-hansa.de/veranstaltung/vorstandssitzung-29/
LOCATION:BRC Hansa\, Werderstraße 64\, Bremen\, 28199
CATEGORIES:Vorstandssitzung
END:VEVENT
BEGIN:VEVENT
DTSTART;TZID=Europe/Paris:20260228T000000
DTEND;TZID=Europe/Paris:20260228T235959
DTSTAMP:20260423T105938
CREATED:20260106T173255Z
LAST-MODIFIED:20260106T173255Z
UID:8716-1772236800-1772323199@www.brc-hansa.de
SUMMARY:Kohlfahrt
DESCRIPTION:Nähere Infos folgen.
URL:https://www.brc-hansa.de/veranstaltung/kohlfahrt-2/
LOCATION:BRC Hansa\, Werderstraße 64\, Bremen\, 28199
END:VEVENT
END:VCALENDAR