BEGIN:VCALENDAR
VERSION:2.0
PRODID:-//Bremer Ruder-Club HANSA - ECPv6.15.20//NONSGML v1.0//EN
CALSCALE:GREGORIAN
METHOD:PUBLISH
X-ORIGINAL-URL:https://www.brc-hansa.de
X-WR-CALDESC:Veranstaltungen für Bremer Ruder-Club HANSA
REFRESH-INTERVAL;VALUE=DURATION:PT1H
X-Robots-Tag:noindex
X-PUBLISHED-TTL:PT1H
BEGIN:VTIMEZONE
TZID:Europe/Paris
BEGIN:DAYLIGHT
TZOFFSETFROM:+0100
TZOFFSETTO:+0200
TZNAME:CEST
DTSTART:20240331T010000
END:DAYLIGHT
BEGIN:STANDARD
TZOFFSETFROM:+0200
TZOFFSETTO:+0100
TZNAME:CET
DTSTART:20241027T010000
END:STANDARD
BEGIN:DAYLIGHT
TZOFFSETFROM:+0100
TZOFFSETTO:+0200
TZNAME:CEST
DTSTART:20250330T010000
END:DAYLIGHT
BEGIN:STANDARD
TZOFFSETFROM:+0200
TZOFFSETTO:+0100
TZNAME:CET
DTSTART:20251026T010000
END:STANDARD
BEGIN:DAYLIGHT
TZOFFSETFROM:+0100
TZOFFSETTO:+0200
TZNAME:CEST
DTSTART:20260329T010000
END:DAYLIGHT
BEGIN:STANDARD
TZOFFSETFROM:+0200
TZOFFSETTO:+0100
TZNAME:CET
DTSTART:20261025T010000
END:STANDARD
END:VTIMEZONE
BEGIN:VEVENT
DTSTART;TZID=Europe/Paris:20251004T000000
DTEND;TZID=Europe/Paris:20251004T235959
DTSTAMP:20260425T154745
CREATED:20250108T105427Z
LAST-MODIFIED:20250108T105427Z
UID:8056-1759536000-1759622399@www.brc-hansa.de
SUMMARY:Radrennen der Ruderer in Hannover
DESCRIPTION:Mehr Infos folgen
URL:https://www.brc-hansa.de/veranstaltung/radrennen-der-ruderer-in-hannover/
END:VEVENT
BEGIN:VEVENT
DTSTART;TZID=Europe/Paris:20251021T170000
DTEND;TZID=Europe/Paris:20251021T210000
DTSTAMP:20260425T154745
CREATED:20250521T134954Z
LAST-MODIFIED:20251020T081609Z
UID:8363-1761066000-1761080400@www.brc-hansa.de
SUMMARY:Freimarktsrudern und Aalessen
DESCRIPTION:Es ist wieder so weit…..es ist Freimarkt. Und traditionell veranstalten wir unser alljährliches Freimarktsrudern. \nWir treffen uns um 17 Uhr umgezogen zum Rudern vor der Bootshalle. \nDas Aalessen startet nach der Rückkehr der Rudernden gegen 19 Uhr. Natürlich gibt es auch eine Alternative zum Aal. \nWir bitten euch um die Anmeldung per Email 
URL:https://www.brc-hansa.de/veranstaltung/freimarktsrudern-4/
LOCATION:BRC Hansa\, Werderstraße 64\, Bremen\, 28199
CATEGORIES:Aktuelles
END:VEVENT
BEGIN:VEVENT
DTSTART;TZID=Europe/Paris:20251031T110000
DTEND;TZID=Europe/Paris:20251031T163000
DTSTAMP:20260425T154745
CREATED:20241230T085520Z
LAST-MODIFIED:20251020T082149Z
UID:8002-1761908400-1761928200@www.brc-hansa.de
SUMMARY:Abrudern mit Siegerehrung
DESCRIPTION:Der Herbst und die Dunkelheit holen uns spürbar ein. Wir laden euch herzlich zum Abrudern und zur Siegerehrung 2025 ein. Es erwartet euch ein abwechslungsreiches Programm:11:00 Uhr  Treffpunkt vor der Bootshalle und Begrüßung\, anschl.   Abrudern\, die Boote werden eingeteilt und treffen sich am Wehr zum Hipphipphurra13:00 Uhr  Mittagessen bei Goran (Pizzaauswahl)14:00 Uhr  Siegerehrung Leistungssport 202514:30 Uhr  Trainingsverpflichtung Leistungssport15:30 Uhr  3. HANSA-Boule-Meisterschaft und AusklangBitte meldet euch zur besseren Planung – ob mit Rudern oder ohne und mit eurem Essenswunsch – über die Liste am Schwarzen Brett oder per Mail an die Ruderwartin bis zum 28.10.2025 an.Wir freuen uns\, mit möglichst vielen von euch die Sommersaison verabschieden zu können! Das Wetter wird wie immer am Steg gemacht.
URL:https://www.brc-hansa.de/veranstaltung/abrudern-3/
LOCATION:BRC Hansa\, Werderstraße 64\, Bremen\, 28199
CATEGORIES:Aktuelles,Breitensport,Kinder- und Jugendsport,Leistungssport
END:VEVENT
END:VCALENDAR