BEGIN:VCALENDAR
VERSION:2.0
PRODID:-//Bremer Ruder-Club HANSA - ECPv6.15.20//NONSGML v1.0//EN
CALSCALE:GREGORIAN
METHOD:PUBLISH
X-ORIGINAL-URL:https://www.brc-hansa.de
X-WR-CALDESC:Veranstaltungen für Bremer Ruder-Club HANSA
REFRESH-INTERVAL;VALUE=DURATION:PT1H
X-Robots-Tag:noindex
X-PUBLISHED-TTL:PT1H
BEGIN:VTIMEZONE
TZID:Europe/Paris
BEGIN:DAYLIGHT
TZOFFSETFROM:+0100
TZOFFSETTO:+0200
TZNAME:CEST
DTSTART:20240331T010000
END:DAYLIGHT
BEGIN:STANDARD
TZOFFSETFROM:+0200
TZOFFSETTO:+0100
TZNAME:CET
DTSTART:20241027T010000
END:STANDARD
BEGIN:DAYLIGHT
TZOFFSETFROM:+0100
TZOFFSETTO:+0200
TZNAME:CEST
DTSTART:20250330T010000
END:DAYLIGHT
BEGIN:STANDARD
TZOFFSETFROM:+0200
TZOFFSETTO:+0100
TZNAME:CET
DTSTART:20251026T010000
END:STANDARD
BEGIN:DAYLIGHT
TZOFFSETFROM:+0100
TZOFFSETTO:+0200
TZNAME:CEST
DTSTART:20260329T010000
END:DAYLIGHT
BEGIN:STANDARD
TZOFFSETFROM:+0200
TZOFFSETTO:+0100
TZNAME:CET
DTSTART:20261025T010000
END:STANDARD
END:VTIMEZONE
BEGIN:VEVENT
DTSTART;TZID=Europe/Paris:20250910T000000
DTEND;TZID=Europe/Paris:20250914T235959
DTSTAMP:20260425T155932
CREATED:20250108T105045Z
LAST-MODIFIED:20250108T105045Z
UID:8050-1757462400-1757894399@www.brc-hansa.de
SUMMARY:World Rowing Masters Regatta in Banyoles
DESCRIPTION:Mehr Infos hier
URL:https://www.brc-hansa.de/veranstaltung/world-rowing-masters-regatta-in-banyoles/
CATEGORIES:Regatta
END:VEVENT
BEGIN:VEVENT
DTSTART;TZID=Europe/Paris:20250918T183000
DTEND;TZID=Europe/Paris:20250918T220000
DTSTAMP:20260425T155932
CREATED:20250108T110957Z
LAST-MODIFIED:20250908T091622Z
UID:8080-1758220200-1758232800@www.brc-hansa.de
SUMMARY:Gründungstag
DESCRIPTION:In dieser Veranstaltung würdigen wir unsere verdienten Jubilare. Als Referent haben wir in diesem Jahr unser Mitglied Dr. Moritz Zeising gewinnen können. Sein Vortrag hat das Thema „Brennpunkt Arktis:Expedition in eine weiße Welt“ \nZum Essen gibt es traditionell Rouladen\, aber auch eine vegetarische Variante. \nBitte tragt euch zur Anmeldung in die Liste am Schwarzen Brett im Club ein.
URL:https://www.brc-hansa.de/veranstaltung/gruendungstag-5/
LOCATION:BRC Hansa\, Werderstraße 64\, Bremen\, 28199
CATEGORIES:Aktuelles
END:VEVENT
BEGIN:VEVENT
DTSTART;TZID=Europe/Paris:20250920T000000
DTEND;TZID=Europe/Paris:20250920T235959
DTSTAMP:20260425T155932
CREATED:20250108T105208Z
LAST-MODIFIED:20250108T105208Z
UID:8052-1758326400-1758412799@www.brc-hansa.de
SUMMARY:Head of the River Leine
DESCRIPTION:Mehr Infos folgen
URL:https://www.brc-hansa.de/veranstaltung/head-of-the-river-leine-2/
CATEGORIES:Regatta
END:VEVENT
BEGIN:VEVENT
DTSTART;TZID=Europe/Paris:20250921T103000
DTEND;TZID=Europe/Paris:20250921T123000
DTSTAMP:20260425T155932
CREATED:20250521T134821Z
LAST-MODIFIED:20250905T155240Z
UID:8361-1758450600-1758457800@www.brc-hansa.de
SUMMARY:Rudern zur Venus
DESCRIPTION:Wir beteiligen uns wie jedes Jahr am jährlichen „Lauf zur Venus“ der Bremer Krebsgesellschaft und „rudern zur Venus“. Gerudert wird unsere Hausstrecke zum Wehr. Wir treffen uns um 10.30 Uhr umgezogen vor unserem Bootshaus. Die Teilnahmegebühr von 5\,- EUR bitten wir euch\, am Tag selber passend mitzubringen. Der gesammelte Betrag wird an die Bremer Krebsgesellschaft gespendet.\nAnmeldungen bitte bis zum 18.9. per Mail .\nWir freuen uns auf eine rege Teilnahme für eine gute Sache!
URL:https://www.brc-hansa.de/veranstaltung/rudern-zur-venus-5/
LOCATION:BRC Hansa\, Werderstraße 64\, Bremen\, 28199
CATEGORIES:Aktuelles,Breitensport
END:VEVENT
BEGIN:VEVENT
DTSTART;TZID=Europe/Paris:20250927T000000
DTEND;TZID=Europe/Paris:20250927T235959
DTSTAMP:20260425T155932
CREATED:20250108T105323Z
LAST-MODIFIED:20250108T105323Z
UID:8054-1758931200-1759017599@www.brc-hansa.de
SUMMARY:Grüner Moselpokal Bernkastel-Kues
DESCRIPTION:Mehr Infos folgen
URL:https://www.brc-hansa.de/veranstaltung/gruener-moselpokal-bernkastel-kues/
CATEGORIES:Regatta
END:VEVENT
BEGIN:VEVENT
DTSTART;TZID=Europe/Paris:20250929T190000
DTEND;TZID=Europe/Paris:20250929T210000
DTSTAMP:20260425T155932
CREATED:20250108T110645Z
LAST-MODIFIED:20250108T110645Z
UID:8074-1759172400-1759179600@www.brc-hansa.de
SUMMARY:Öffentliche Vorstandssitzung
DESCRIPTION:
URL:https://www.brc-hansa.de/veranstaltung/oeffentliche-vorstandssitzung-5/
LOCATION:BRC Hansa\, Werderstraße 64\, Bremen\, 28199
CATEGORIES:Vorstandssitzung
END:VEVENT
END:VCALENDAR