BEGIN:VCALENDAR
VERSION:2.0
PRODID:-//Bremer Ruder-Club HANSA - ECPv6.15.20//NONSGML v1.0//EN
CALSCALE:GREGORIAN
METHOD:PUBLISH
X-WR-CALNAME:Bremer Ruder-Club HANSA
X-ORIGINAL-URL:https://www.brc-hansa.de
X-WR-CALDESC:Veranstaltungen für Bremer Ruder-Club HANSA
REFRESH-INTERVAL;VALUE=DURATION:PT1H
X-Robots-Tag:noindex
X-PUBLISHED-TTL:PT1H
BEGIN:VTIMEZONE
TZID:Europe/Helsinki
BEGIN:DAYLIGHT
TZOFFSETFROM:+0200
TZOFFSETTO:+0300
TZNAME:EEST
DTSTART:20210328T010000
END:DAYLIGHT
BEGIN:STANDARD
TZOFFSETFROM:+0300
TZOFFSETTO:+0200
TZNAME:EET
DTSTART:20211031T010000
END:STANDARD
BEGIN:DAYLIGHT
TZOFFSETFROM:+0200
TZOFFSETTO:+0300
TZNAME:EEST
DTSTART:20220327T010000
END:DAYLIGHT
BEGIN:STANDARD
TZOFFSETFROM:+0300
TZOFFSETTO:+0200
TZNAME:EET
DTSTART:20221030T010000
END:STANDARD
BEGIN:DAYLIGHT
TZOFFSETFROM:+0200
TZOFFSETTO:+0300
TZNAME:EEST
DTSTART:20230326T010000
END:DAYLIGHT
BEGIN:STANDARD
TZOFFSETFROM:+0300
TZOFFSETTO:+0200
TZNAME:EET
DTSTART:20231029T010000
END:STANDARD
END:VTIMEZONE
BEGIN:VEVENT
DTSTART;TZID=Europe/Helsinki:20220901T190000
DTEND;TZID=Europe/Helsinki:20220901T210000
DTSTAMP:20260424T094858
CREATED:20220613T144115Z
LAST-MODIFIED:20220613T144115Z
UID:5549-1662058800-1662066000@www.brc-hansa.de
SUMMARY:Vorstandssitzung
DESCRIPTION:
URL:https://www.brc-hansa.de/veranstaltung/vorstandssitzung-9/
LOCATION:BRC Hansa\, Werderstraße 64\, Bremen\, 28199
CATEGORIES:Vorstandssitzung
END:VEVENT
BEGIN:VEVENT
DTSTART;TZID=Europe/Helsinki:20220903T090000
DTEND;TZID=Europe/Helsinki:20220903T140000
DTSTAMP:20260424T094858
CREATED:20220830T094829Z
LAST-MODIFIED:20220830T094829Z
UID:5643-1662195600-1662213600@www.brc-hansa.de
SUMMARY:Arbeitsdienst
DESCRIPTION:Liebe Ruderinnen und Ruderer\, \nam Sonnabend findet von 9.00 Uhr bis 14.00 Uhr der Arbeitsdienst statt. \nTreffpunkt ist um 09:00 Uhr am Haupteingang auf dem Parkplatz.
URL:https://www.brc-hansa.de/veranstaltung/arbeitsdienst-15/
LOCATION:BRC Hansa\, Werderstraße 64\, Bremen\, 28199
CATEGORIES:Arbeitsdienst
END:VEVENT
BEGIN:VEVENT
DTSTART;TZID=Europe/Helsinki:20220904T110000
DTEND;TZID=Europe/Helsinki:20220904T160000
DTSTAMP:20260424T094858
CREATED:20220613T144417Z
LAST-MODIFIED:20220903T122716Z
UID:5551-1662289200-1662307200@www.brc-hansa.de
SUMMARY:Clubregatta
DESCRIPTION:Folgendes Programm haben wir für Sonntag geplant: \n11:00 Uhr Begrüßung durch den 1. Vorsitzenden \n11:15 Uhr Bootstaufe \n11:30 Uhr Erster Start der Clubregatta \n12:30 Uhr Das Grillen startet \n15:00 Uhr Siegerehrung \nDie Ausschreibung der Clubregatta findet ihr am Schwarzen Brett im Club. Der Teilnehmerbeitrag beträgt 5 € pro Person. Meldeschluss ist 30.08.2022 um 18 Uhr. Die Mannschaften werden gelost.
URL:https://www.brc-hansa.de/veranstaltung/clubregatta/
LOCATION:BRC Hansa\, Werderstraße 64\, Bremen\, 28199
CATEGORIES:Aktuelles
END:VEVENT
BEGIN:VEVENT
DTSTART;TZID=Europe/Helsinki:20220908T183000
DTEND;TZID=Europe/Helsinki:20220908T210000
DTSTAMP:20260424T094858
CREATED:20220815T113448Z
LAST-MODIFIED:20220903T123813Z
UID:5608-1662661800-1662670800@www.brc-hansa.de
SUMMARY:Gründungstag
DESCRIPTION:Wir feiern unseren Gründungstag und ehren unsere verdienten Jubilare . Als Referentin wird  unsere Trainingsleiterin und Trainerin Wiebke Liesenhoff über das Thema „Leistungsrudern bei HANSA“ sprechen. Zum Essen gibt es traditionell Rouladen à la Antonella. Zur Anmeldung hängt eine List am Schwarzen Brett aus.
URL:https://www.brc-hansa.de/veranstaltung/gruendungstag-2/
LOCATION:BRC Hansa\, Werderstraße 64\, Bremen\, 28199
CATEGORIES:Aktuelles
END:VEVENT
BEGIN:VEVENT
DTSTART;TZID=Europe/Helsinki:20220918T100000
DTEND;TZID=Europe/Helsinki:20220918T123000
DTSTAMP:20260424T094858
CREATED:20220815T114138Z
LAST-MODIFIED:20220815T114138Z
UID:5610-1663495200-1663504200@www.brc-hansa.de
SUMMARY:Rudern zur Venus
DESCRIPTION:
URL:https://www.brc-hansa.de/veranstaltung/rudern-zur-venus-2/
LOCATION:BRC Hansa\, Werderstraße 64\, Bremen\, 28199
CATEGORIES:Aktuelles
END:VEVENT
END:VCALENDAR