BEGIN:VCALENDAR
VERSION:2.0
PRODID:-//Bremer Ruder-Club HANSA - ECPv6.15.20//NONSGML v1.0//EN
CALSCALE:GREGORIAN
METHOD:PUBLISH
X-WR-CALNAME:Bremer Ruder-Club HANSA
X-ORIGINAL-URL:https://www.brc-hansa.de
X-WR-CALDESC:Veranstaltungen für Bremer Ruder-Club HANSA
REFRESH-INTERVAL;VALUE=DURATION:PT1H
X-Robots-Tag:noindex
X-PUBLISHED-TTL:PT1H
BEGIN:VTIMEZONE
TZID:Europe/Paris
BEGIN:DAYLIGHT
TZOFFSETFROM:+0100
TZOFFSETTO:+0200
TZNAME:CEST
DTSTART:20250330T010000
END:DAYLIGHT
BEGIN:STANDARD
TZOFFSETFROM:+0200
TZOFFSETTO:+0100
TZNAME:CET
DTSTART:20251026T010000
END:STANDARD
BEGIN:DAYLIGHT
TZOFFSETFROM:+0100
TZOFFSETTO:+0200
TZNAME:CEST
DTSTART:20260329T010000
END:DAYLIGHT
BEGIN:STANDARD
TZOFFSETFROM:+0200
TZOFFSETTO:+0100
TZNAME:CET
DTSTART:20261025T010000
END:STANDARD
BEGIN:DAYLIGHT
TZOFFSETFROM:+0100
TZOFFSETTO:+0200
TZNAME:CEST
DTSTART:20270328T010000
END:DAYLIGHT
BEGIN:STANDARD
TZOFFSETFROM:+0200
TZOFFSETTO:+0100
TZNAME:CET
DTSTART:20271031T010000
END:STANDARD
END:VTIMEZONE
BEGIN:VEVENT
DTSTART;TZID=Europe/Paris:20260426T090000
DTEND;TZID=Europe/Paris:20260426T160000
DTSTAMP:20260426T014642
CREATED:20260325T103217Z
LAST-MODIFIED:20260325T103217Z
UID:8881-1777194000-1777219200@www.brc-hansa.de
SUMMARY:Teufelsmoor-Rallye
DESCRIPTION:Lust auf Teilnahme an der Teufelsmoor-Rallye des RV Osterholz-Scharmbeck?\nStart für die traditionelle Kilometer-Rallye ist um 09:00 Uhr und Zielende um 16:00 Uhr am Bootshaus des RV OSCH\, oder die Mannschaft startet am Grohner Hafen Vegesack um 08:30 Uhr. Es sollten so viele Kilometer wie möglich gerudert werden.\nWer an der Rallye teilnehmen möchte\, hat ab sofort die Möglichkeit\, sich im Bootshaus am „Schwarzen Brett“ in die aushängende Liste einzutragen und den Startort auszuwählen. Ihr könnt auch eine komplette Mannschaft eintragen.\nMeldeschluss ist am 12.04.2026!    \nDas Verladen der Boote findet am Samstag\, 25.04.2026 um 16:00 Uhr statt. Der Bootshänger wird am Sonntag um 07:00 Uhr zum RV OSCH fahren.\nFragen können auf der Obleutebesprechung am Donnerstag\, 23.04.2026 um 18:00 Uhr geklärt werden.
URL:https://www.brc-hansa.de/veranstaltung/teufelsmoor-rallye/
CATEGORIES:Aktuelles,Breitensport
END:VEVENT
END:VCALENDAR