BEGIN:VCALENDAR
VERSION:2.0
PRODID:-//Bremer Ruder-Club HANSA - ECPv6.15.20//NONSGML v1.0//EN
CALSCALE:GREGORIAN
METHOD:PUBLISH
X-ORIGINAL-URL:https://www.brc-hansa.de
X-WR-CALDESC:Veranstaltungen für Bremer Ruder-Club HANSA
REFRESH-INTERVAL;VALUE=DURATION:PT1H
X-Robots-Tag:noindex
X-PUBLISHED-TTL:PT1H
BEGIN:VTIMEZONE
TZID:Europe/Paris
BEGIN:DAYLIGHT
TZOFFSETFROM:+0100
TZOFFSETTO:+0200
TZNAME:CEST
DTSTART:20250330T010000
END:DAYLIGHT
BEGIN:STANDARD
TZOFFSETFROM:+0200
TZOFFSETTO:+0100
TZNAME:CET
DTSTART:20251026T010000
END:STANDARD
BEGIN:DAYLIGHT
TZOFFSETFROM:+0100
TZOFFSETTO:+0200
TZNAME:CEST
DTSTART:20260329T010000
END:DAYLIGHT
BEGIN:STANDARD
TZOFFSETFROM:+0200
TZOFFSETTO:+0100
TZNAME:CET
DTSTART:20261025T010000
END:STANDARD
BEGIN:DAYLIGHT
TZOFFSETFROM:+0100
TZOFFSETTO:+0200
TZNAME:CEST
DTSTART:20270328T010000
END:DAYLIGHT
BEGIN:STANDARD
TZOFFSETFROM:+0200
TZOFFSETTO:+0100
TZNAME:CET
DTSTART:20271031T010000
END:STANDARD
END:VTIMEZONE
BEGIN:VEVENT
DTSTART;TZID=Europe/Paris:20260328T000000
DTEND;TZID=Europe/Paris:20260404T235959
DTSTAMP:20260423T122319
CREATED:20251128T200102Z
LAST-MODIFIED:20251128T200102Z
UID:8674-1774656000-1775347199@www.brc-hansa.de
SUMMARY:Trainingslager
DESCRIPTION:Nähere Infos folgen
URL:https://www.brc-hansa.de/veranstaltung/trainingslager/
CATEGORIES:Kinder- und Jugendsport
END:VEVENT
BEGIN:VEVENT
DTSTART;TZID=Europe/Paris:20260404T090000
DTEND;TZID=Europe/Paris:20260404T193000
DTSTAMP:20260423T122319
CREATED:20260325T102013Z
LAST-MODIFIED:20260325T102013Z
UID:8876-1775293200-1775331000@www.brc-hansa.de
SUMMARY:Tagestour rund Bremen
DESCRIPTION:Wie in den letzten Jahren umrunden wir große Teile unserer Stadt Bremen\, wir befahren fünf schöne Gewässer an einem einzigen Tag.\nDie Ruderstrecke ist etwa 48 km lang\, wirmussten an der Strecke etwas ändern\, weil die Schleuse am Dammsiel noch im Winterschlaf ist. Diese Marathondistanz bewältigen wir in etwa 5\,5 Stunden netto. Brutto brauchen wir mit Vorbereitung\, Pausen und Nachbereitung den ganzen Tag. Also nehmt euch für den Samstagabend bitte nichts anderes vor. Vielmehr könnten wir\, wie im letzten Jahr\, den Tag bei unserem hauseigenen Osterfeuer ausklingen lassen.\nWir treffen uns  um 9:00 Uhr ruderfertig und mit gepacktem Seebeutel (Wechselklamotten\, Proviant\, Sonnenschutz\, etwas Taschengeld) vor der Bootshalle.\nWir bitten um eine verbindliche Anmeldung bis zum 30.03. per E-Mail  Gerne integrieren wir motivierte Anfänger aus der Saison 2025 in die Gig-Boote! Die Zahl 48 scheint erst einmal sehr groß. Aber durch Pausen und Wechsel auf den Steuerpositionen liegt die Netto-Ruderstrecke deutlich darunter. Gebt euch einen Ruck\, wir unterstützen gerne\, wo wir können\, und die Fahrt ist wirklich schön.
URL:https://www.brc-hansa.de/veranstaltung/tagestour-rund-bremen/
LOCATION:BRC Hansa\, Werderstraße 64\, Bremen\, 28199
CATEGORIES:Aktuelles,Breitensport
END:VEVENT
BEGIN:VEVENT
DTSTART;TZID=Europe/Paris:20260404T180000
DTEND;TZID=Europe/Paris:20260404T220000
DTSTAMP:20260423T122319
CREATED:20260129T165732Z
LAST-MODIFIED:20260403T144328Z
UID:8795-1775325600-1775340000@www.brc-hansa.de
SUMMARY:Osterfeuer mit Bootstaufe
DESCRIPTION:
URL:https://www.brc-hansa.de/veranstaltung/osterfeuer-5/
LOCATION:BRC Hansa\, Werderstraße 64\, Bremen\, 28199
CATEGORIES:Aktuelles
END:VEVENT
END:VCALENDAR