BEGIN:VCALENDAR
VERSION:2.0
PRODID:-//Bremer Ruder-Club HANSA - ECPv6.15.20//NONSGML v1.0//EN
CALSCALE:GREGORIAN
METHOD:PUBLISH
X-ORIGINAL-URL:https://www.brc-hansa.de
X-WR-CALDESC:Veranstaltungen für Bremer Ruder-Club HANSA
REFRESH-INTERVAL;VALUE=DURATION:PT1H
X-Robots-Tag:noindex
X-PUBLISHED-TTL:PT1H
BEGIN:VTIMEZONE
TZID:Europe/Paris
BEGIN:DAYLIGHT
TZOFFSETFROM:+0100
TZOFFSETTO:+0200
TZNAME:CEST
DTSTART:20250330T010000
END:DAYLIGHT
BEGIN:STANDARD
TZOFFSETFROM:+0200
TZOFFSETTO:+0100
TZNAME:CET
DTSTART:20251026T010000
END:STANDARD
BEGIN:DAYLIGHT
TZOFFSETFROM:+0100
TZOFFSETTO:+0200
TZNAME:CEST
DTSTART:20260329T010000
END:DAYLIGHT
BEGIN:STANDARD
TZOFFSETFROM:+0200
TZOFFSETTO:+0100
TZNAME:CET
DTSTART:20261025T010000
END:STANDARD
BEGIN:DAYLIGHT
TZOFFSETFROM:+0100
TZOFFSETTO:+0200
TZNAME:CEST
DTSTART:20270328T010000
END:DAYLIGHT
BEGIN:STANDARD
TZOFFSETFROM:+0200
TZOFFSETTO:+0100
TZNAME:CET
DTSTART:20271031T010000
END:STANDARD
END:VTIMEZONE
BEGIN:VEVENT
DTSTART;TZID=Europe/Paris:20260101T000000
DTEND;TZID=Europe/Paris:20260101T235959
DTSTAMP:20260423T153529
CREATED:20260106T172927Z
LAST-MODIFIED:20260106T173106Z
UID:8714-1767225600-1767311999@www.brc-hansa.de
SUMMARY:Women's Rowing Challenge im Januar
DESCRIPTION:Das neue Jahr beginnt mit der Women’s Rowing Challenge. Diese vom DRV organisierte Ergo-Challenge ist wie üblich auf mehrere Termine im Januar verteilt\, an denen frau jeweils eine Woche Zeit hat\, um bestimmte Zeiten zu fahren und auf das Portal der WRC selbst hochzuladen. Egal ob zu Hause oder im Club – wichtig ist\, dass die Kilometer auf einem Concept 2 Ergometer absolviert werden.\nDie Termine sind:\n01.01. bis 08.01. (08 Min)\n09.01. bis 15.01. (15 Min)\n16.01. bis 22.01. (22 Min)\n23.01. bis 31.01. (30 Min)\nAlso Ladies\, lasst uns gemeinsam sportlich in das neue Jahr starten und so viele Vereins(kilo)meter wie möglich sammeln! Jeder geruderte Meter zählt für die Teamleistung im Ranking.\nInfos zu der Women’s Rowing Challenge sowie den Link zum Portal findet ihr hier. Ansprechpartnerinnen sind Tessa und  Miriam.\nWir freuen uns auf eine rege Teilnahme und wünschen alles Gute für das neue Ruderjahr 2026!
URL:https://www.brc-hansa.de/veranstaltung/womens-rowing-challenge-im-januar/
LOCATION:BRC Hansa\, Werderstraße 64\, Bremen\, 28199
CATEGORIES:Aktuelles
END:VEVENT
END:VCALENDAR