BEGIN:VCALENDAR
VERSION:2.0
PRODID:-//Bremer Ruder-Club HANSA - ECPv6.15.20//NONSGML v1.0//EN
CALSCALE:GREGORIAN
METHOD:PUBLISH
X-WR-CALNAME:Bremer Ruder-Club HANSA
X-ORIGINAL-URL:https://www.brc-hansa.de
X-WR-CALDESC:Veranstaltungen für Bremer Ruder-Club HANSA
REFRESH-INTERVAL;VALUE=DURATION:PT1H
X-Robots-Tag:noindex
X-PUBLISHED-TTL:PT1H
BEGIN:VTIMEZONE
TZID:Europe/Paris
BEGIN:DAYLIGHT
TZOFFSETFROM:+0100
TZOFFSETTO:+0200
TZNAME:CEST
DTSTART:20240331T010000
END:DAYLIGHT
BEGIN:STANDARD
TZOFFSETFROM:+0200
TZOFFSETTO:+0100
TZNAME:CET
DTSTART:20241027T010000
END:STANDARD
BEGIN:DAYLIGHT
TZOFFSETFROM:+0100
TZOFFSETTO:+0200
TZNAME:CEST
DTSTART:20250330T010000
END:DAYLIGHT
BEGIN:STANDARD
TZOFFSETFROM:+0200
TZOFFSETTO:+0100
TZNAME:CET
DTSTART:20251026T010000
END:STANDARD
BEGIN:DAYLIGHT
TZOFFSETFROM:+0100
TZOFFSETTO:+0200
TZNAME:CEST
DTSTART:20260329T010000
END:DAYLIGHT
BEGIN:STANDARD
TZOFFSETFROM:+0200
TZOFFSETTO:+0100
TZNAME:CET
DTSTART:20261025T010000
END:STANDARD
END:VTIMEZONE
BEGIN:VEVENT
DTSTART;TZID=Europe/Paris:20251211T180000
DTEND;TZID=Europe/Paris:20251211T213000
DTSTAMP:20260423T172413
CREATED:20250521T135104Z
LAST-MODIFIED:20251207T090107Z
UID:8365-1765476000-1765488600@www.brc-hansa.de
SUMMARY:Feuerzangenbowle
DESCRIPTION:Das Jahr neigt sich dem Ende zu\, und Weihnachten steht vor der Tür. In alter Tradition laden wir zu einer gemütlichen Zusammenkunft mit Feuerzangenbowle ein. \nAnmeldung bitte bis zum 09.12. an diese  E-Mail-Adresse. \nFalls jemand von euch einen Feuerzangenbowlen-Topf (inkl. Zuckerhuthalterung) hat und diesen vom 10.12.-12.12. unserer Gastronomie zur Verfügung stellen kann\, den bitten wir\, dies außerdem mitzuteilen. \nWir freuen uns auf einen schönen Abend mit euch. !
URL:https://www.brc-hansa.de/veranstaltung/feuerzangenbowle-der-damen-2/
LOCATION:BRC Hansa\, Werderstraße 64\, Bremen\, 28199
CATEGORIES:Aktuelles,Feuerzangenbowle
END:VEVENT
END:VCALENDAR