BEGIN:VCALENDAR
VERSION:2.0
PRODID:-//Bremer Ruder-Club HANSA - ECPv6.15.20//NONSGML v1.0//EN
CALSCALE:GREGORIAN
METHOD:PUBLISH
X-WR-CALNAME:Bremer Ruder-Club HANSA
X-ORIGINAL-URL:https://www.brc-hansa.de
X-WR-CALDESC:Veranstaltungen für Bremer Ruder-Club HANSA
REFRESH-INTERVAL;VALUE=DURATION:PT1H
X-Robots-Tag:noindex
X-PUBLISHED-TTL:PT1H
BEGIN:VTIMEZONE
TZID:Europe/Paris
BEGIN:DAYLIGHT
TZOFFSETFROM:+0100
TZOFFSETTO:+0200
TZNAME:CEST
DTSTART:20240331T010000
END:DAYLIGHT
BEGIN:STANDARD
TZOFFSETFROM:+0200
TZOFFSETTO:+0100
TZNAME:CET
DTSTART:20241027T010000
END:STANDARD
BEGIN:DAYLIGHT
TZOFFSETFROM:+0100
TZOFFSETTO:+0200
TZNAME:CEST
DTSTART:20250330T010000
END:DAYLIGHT
BEGIN:STANDARD
TZOFFSETFROM:+0200
TZOFFSETTO:+0100
TZNAME:CET
DTSTART:20251026T010000
END:STANDARD
BEGIN:DAYLIGHT
TZOFFSETFROM:+0100
TZOFFSETTO:+0200
TZNAME:CEST
DTSTART:20260329T010000
END:DAYLIGHT
BEGIN:STANDARD
TZOFFSETFROM:+0200
TZOFFSETTO:+0100
TZNAME:CET
DTSTART:20261025T010000
END:STANDARD
END:VTIMEZONE
BEGIN:VEVENT
DTSTART;TZID=Europe/Paris:20251206T094500
DTEND;TZID=Europe/Paris:20251206T094500
DTSTAMP:20260425T130256
CREATED:20251128T200634Z
LAST-MODIFIED:20251128T201153Z
UID:8676-1765014300-1765014300@www.brc-hansa.de
SUMMARY:Nikolausrudern der Bremer Ruderjugend
DESCRIPTION:Auch dieses Jahr findet wieder das Nikolausrudern statt. Diese\nvereinsübergreifende Veranstaltung wird von der Bremer Ruderjugend in\nZusammenarbeit mit dem Bremer Sport-Club e.V. durchgeführt.\nDas Nikolausrudern richtet sich an alle Sportler*innen im Alter von 8 bis 14 Jahren die\nbei einem der im LRV Bremen organisierten Rudervereine Mitglied sind.\nAblauf:\nAlle Teilnehmer*innen treffen sich um 10 Uhr auf dem Gelände des Bremer Sport-\nClubs (Werderstraße 66\, 28199 Bremen) und bringen möglichst viele\, möglichst große\nBoote zu Wasser. Dann wird gemeinsam eine kleine Runde gerudert und Tüten mit\nSüßigkeiten „geangelt“\, die von der Wilhelm-Kaisen-Bücke heruntergelassen werden.\nIm Anschluss gibt es Kakao zum Aufwärmen. Um ca. 13.30 Uhr ist die Veranstaltung\nbeendet. Anmeldung bis zum 28.11.25 bei dem Trainer / Jugendleiter des eigenen Vereins.
URL:https://www.brc-hansa.de/veranstaltung/nikolausrudern-der-bremer-ruderjugend/
CATEGORIES:Kinder- und Jugendsport
END:VEVENT
END:VCALENDAR