BEGIN:VCALENDAR
VERSION:2.0
PRODID:-//Bremer Ruder-Club HANSA - ECPv6.15.20//NONSGML v1.0//EN
CALSCALE:GREGORIAN
METHOD:PUBLISH
X-ORIGINAL-URL:https://www.brc-hansa.de
X-WR-CALDESC:Veranstaltungen für Bremer Ruder-Club HANSA
REFRESH-INTERVAL;VALUE=DURATION:PT1H
X-Robots-Tag:noindex
X-PUBLISHED-TTL:PT1H
BEGIN:VTIMEZONE
TZID:Europe/Paris
BEGIN:DAYLIGHT
TZOFFSETFROM:+0100
TZOFFSETTO:+0200
TZNAME:CEST
DTSTART:20240331T010000
END:DAYLIGHT
BEGIN:STANDARD
TZOFFSETFROM:+0200
TZOFFSETTO:+0100
TZNAME:CET
DTSTART:20241027T010000
END:STANDARD
BEGIN:DAYLIGHT
TZOFFSETFROM:+0100
TZOFFSETTO:+0200
TZNAME:CEST
DTSTART:20250330T010000
END:DAYLIGHT
BEGIN:STANDARD
TZOFFSETFROM:+0200
TZOFFSETTO:+0100
TZNAME:CET
DTSTART:20251026T010000
END:STANDARD
BEGIN:DAYLIGHT
TZOFFSETFROM:+0100
TZOFFSETTO:+0200
TZNAME:CEST
DTSTART:20260329T010000
END:DAYLIGHT
BEGIN:STANDARD
TZOFFSETFROM:+0200
TZOFFSETTO:+0100
TZNAME:CET
DTSTART:20261025T010000
END:STANDARD
END:VTIMEZONE
BEGIN:VEVENT
DTSTART;TZID=Europe/Paris:20251122T000000
DTEND;TZID=Europe/Paris:20251123T235959
DTSTAMP:20260425T141524
CREATED:20250821T195842Z
LAST-MODIFIED:20250915T191151Z
UID:8496-1763769600-1763942399@www.brc-hansa.de
SUMMARY:Steuerleutelehrgang 2025
DESCRIPTION:Der diesjährige Steuerleutelehrgang des LRV findet wieder im Bootshaus des BRC Hansa statt. \nEs geht bei dem Obleutekurs um Verantwortung im Ruderboot\, Boote steuern und führen\, Staustufen\, Verkehrsregeln\, Ruderbefehle\, Boote und Zubehör\, Umweltschutz usw. Voraussetzungen für die Teilnahme sind ein Mindestalter von 14 Jahren. Die Kosten betragen 20\,- Euro pro Teilnehmerin und Teilnehmer. Hierin enthalten ist das Lehrbuch des Deutschen Ruderverbandes „Bootsobleute und Steuerleute“. Das Buch wird bei Kursbeginn ausgegeben.\nNicht enthalten sind die Kosten für Getränke und Verpflegung. Preiswerte Verpflegung (Getränke\, Mittagessen) wird angeboten. \nWeitere wichtige Details sind hier auf der Website und hier in der Ankündigung zu finden.
URL:https://www.brc-hansa.de/veranstaltung/steuerleutelehrgang-2025-2/
LOCATION:BRC Hansa\, Werderstraße 64\, Bremen\, 28199
CATEGORIES:Obleutelehrgang
END:VEVENT
END:VCALENDAR