BEGIN:VCALENDAR
VERSION:2.0
PRODID:-//Bremer Ruder-Club HANSA - ECPv6.15.20//NONSGML v1.0//EN
CALSCALE:GREGORIAN
METHOD:PUBLISH
X-ORIGINAL-URL:https://www.brc-hansa.de
X-WR-CALDESC:Veranstaltungen für Bremer Ruder-Club HANSA
REFRESH-INTERVAL;VALUE=DURATION:PT1H
X-Robots-Tag:noindex
X-PUBLISHED-TTL:PT1H
BEGIN:VTIMEZONE
TZID:Europe/Paris
BEGIN:DAYLIGHT
TZOFFSETFROM:+0100
TZOFFSETTO:+0200
TZNAME:CEST
DTSTART:20240331T010000
END:DAYLIGHT
BEGIN:STANDARD
TZOFFSETFROM:+0200
TZOFFSETTO:+0100
TZNAME:CET
DTSTART:20241027T010000
END:STANDARD
BEGIN:DAYLIGHT
TZOFFSETFROM:+0100
TZOFFSETTO:+0200
TZNAME:CEST
DTSTART:20250330T010000
END:DAYLIGHT
BEGIN:STANDARD
TZOFFSETFROM:+0200
TZOFFSETTO:+0100
TZNAME:CET
DTSTART:20251026T010000
END:STANDARD
BEGIN:DAYLIGHT
TZOFFSETFROM:+0100
TZOFFSETTO:+0200
TZNAME:CEST
DTSTART:20260329T010000
END:DAYLIGHT
BEGIN:STANDARD
TZOFFSETFROM:+0200
TZOFFSETTO:+0100
TZNAME:CET
DTSTART:20261025T010000
END:STANDARD
END:VTIMEZONE
BEGIN:VEVENT
DTSTART;TZID=Europe/Paris:20250918T183000
DTEND;TZID=Europe/Paris:20250918T220000
DTSTAMP:20260425T174609
CREATED:20250108T110957Z
LAST-MODIFIED:20250908T091622Z
UID:8080-1758220200-1758232800@www.brc-hansa.de
SUMMARY:Gründungstag
DESCRIPTION:In dieser Veranstaltung würdigen wir unsere verdienten Jubilare. Als Referent haben wir in diesem Jahr unser Mitglied Dr. Moritz Zeising gewinnen können. Sein Vortrag hat das Thema „Brennpunkt Arktis:Expedition in eine weiße Welt“ \nZum Essen gibt es traditionell Rouladen\, aber auch eine vegetarische Variante. \nBitte tragt euch zur Anmeldung in die Liste am Schwarzen Brett im Club ein.
URL:https://www.brc-hansa.de/veranstaltung/gruendungstag-5/
LOCATION:BRC Hansa\, Werderstraße 64\, Bremen\, 28199
CATEGORIES:Aktuelles
END:VEVENT
END:VCALENDAR