BEGIN:VCALENDAR
VERSION:2.0
PRODID:-//Bremer Ruder-Club HANSA - ECPv6.15.20//NONSGML v1.0//EN
CALSCALE:GREGORIAN
METHOD:PUBLISH
X-ORIGINAL-URL:https://www.brc-hansa.de
X-WR-CALDESC:Veranstaltungen für Bremer Ruder-Club HANSA
REFRESH-INTERVAL;VALUE=DURATION:PT1H
X-Robots-Tag:noindex
X-PUBLISHED-TTL:PT1H
BEGIN:VTIMEZONE
TZID:Europe/Paris
BEGIN:DAYLIGHT
TZOFFSETFROM:+0100
TZOFFSETTO:+0200
TZNAME:CEST
DTSTART:20240331T010000
END:DAYLIGHT
BEGIN:STANDARD
TZOFFSETFROM:+0200
TZOFFSETTO:+0100
TZNAME:CET
DTSTART:20241027T010000
END:STANDARD
BEGIN:DAYLIGHT
TZOFFSETFROM:+0100
TZOFFSETTO:+0200
TZNAME:CEST
DTSTART:20250330T010000
END:DAYLIGHT
BEGIN:STANDARD
TZOFFSETFROM:+0200
TZOFFSETTO:+0100
TZNAME:CET
DTSTART:20251026T010000
END:STANDARD
BEGIN:DAYLIGHT
TZOFFSETFROM:+0100
TZOFFSETTO:+0200
TZNAME:CEST
DTSTART:20260329T010000
END:DAYLIGHT
BEGIN:STANDARD
TZOFFSETFROM:+0200
TZOFFSETTO:+0100
TZNAME:CET
DTSTART:20261025T010000
END:STANDARD
END:VTIMEZONE
BEGIN:VEVENT
DTSTART;TZID=Europe/Paris:20250831T103000
DTEND;TZID=Europe/Paris:20250831T160000
DTSTAMP:20260425T192737
CREATED:20241230T085633Z
LAST-MODIFIED:20250821T103222Z
UID:8004-1756636200-1756656000@www.brc-hansa.de
SUMMARY:Clubregatta
DESCRIPTION:Wir laden Euch herzlich zu unserer Clubregatta 2025 ein. \nEs erwarten Euch spannende Rennen\, der LRV-Ausscheid für die U17 Junior*innen im Einer für den Städtekampf\, leckere Grillwürste und Salate.  \nFolgendes Programm haben wir vorbereitet: \n10:30 Uhr Begrüßung durch den 1. Vorsitzenden\, Bootstaufe Einer und Motorboot \n11:30 Uhr Clubregatta Block I (Rennen 1 und 2) \n12:00 Uhr Rennen des LRV-Ausscheids für die U17 Junior*innen im Einer für den Städtekampf Ende September \n13:30 Uhr Clubregatta Block II (Rennen 3 bis 6) \n13:30 Uhr Das Grillen startet \nca. 15:00 Uhr Siegerehrung \nDie Ausschreibung der Clubregatta findet Ihr am schwarzen Brett im Club.  \nDieses Jahr neu: Wir starten auch im Doppel-Rennzweier sowie im Doppel-Rennvierer\, wobei sich hierfür feste Mannschaften melden können.  \nDer Teilnehmerbeitrag beträgt 5 € pro Person. Bitte tragt Euch in die Liste bis zum 27.08.2025 ein. Die Mannschaften werden von einem Team aus dem Vorstand eingeteilt. Die Einteilung der Kinder- und Jugendmannschaften übernimmt die Jugendabteilung.  \nWir suchen noch dringend helfende Unterstützung für diese Aufgaben: Kasse\, Zielgericht\, Schiedsrichter\, Motorbootfahrer\, Fotograf\, Stegbetreuung\, Auf- und Abbau u.v.m. Bitte meldet Euch bis zum 24.08.2025 bei unserer Ruderwartin oder Sportvorsitzenden.  \nDie Unterstützung bei der Clubregatta kann als Arbeitsdienst angerechnet werden. \nAußerdem nehmen wir gern Kuchenspenden für das Buffet entgegen. \nWir freuen uns\, wenn viele Neulinge auf der Clubregatta an den Start gehen oder auch einfach nur so die Ruder*innen auf dem Wasser anfeuern. 
URL:https://www.brc-hansa.de/veranstaltung/clubregatta-4/
LOCATION:BRC Hansa\, Werderstraße 64\, Bremen\, 28199
CATEGORIES:Aktuelles,Breitensport,Kinder- und Jugendsport,Regatta
END:VEVENT
END:VCALENDAR