BEGIN:VCALENDAR
VERSION:2.0
PRODID:-//Bremer Ruder-Club HANSA - ECPv6.15.20//NONSGML v1.0//EN
CALSCALE:GREGORIAN
METHOD:PUBLISH
X-WR-CALNAME:Bremer Ruder-Club HANSA
X-ORIGINAL-URL:https://www.brc-hansa.de
X-WR-CALDESC:Veranstaltungen für Bremer Ruder-Club HANSA
REFRESH-INTERVAL;VALUE=DURATION:PT1H
X-Robots-Tag:noindex
X-PUBLISHED-TTL:PT1H
BEGIN:VTIMEZONE
TZID:Europe/Paris
BEGIN:DAYLIGHT
TZOFFSETFROM:+0100
TZOFFSETTO:+0200
TZNAME:CEST
DTSTART:20240331T010000
END:DAYLIGHT
BEGIN:STANDARD
TZOFFSETFROM:+0200
TZOFFSETTO:+0100
TZNAME:CET
DTSTART:20241027T010000
END:STANDARD
BEGIN:DAYLIGHT
TZOFFSETFROM:+0100
TZOFFSETTO:+0200
TZNAME:CEST
DTSTART:20250330T010000
END:DAYLIGHT
BEGIN:STANDARD
TZOFFSETFROM:+0200
TZOFFSETTO:+0100
TZNAME:CET
DTSTART:20251026T010000
END:STANDARD
BEGIN:DAYLIGHT
TZOFFSETFROM:+0100
TZOFFSETTO:+0200
TZNAME:CEST
DTSTART:20260329T010000
END:DAYLIGHT
BEGIN:STANDARD
TZOFFSETFROM:+0200
TZOFFSETTO:+0100
TZNAME:CET
DTSTART:20261025T010000
END:STANDARD
END:VTIMEZONE
BEGIN:VEVENT
DTSTART;TZID=Europe/Paris:20250819T164500
DTEND;TZID=Europe/Paris:20250819T213000
DTSTAMP:20260425T192414
CREATED:20250730T081135Z
LAST-MODIFIED:20250730T081229Z
UID:8475-1755621900-1755639000@www.brc-hansa.de
SUMMARY:Bratkartoffelfahrt
DESCRIPTION:Wir laden herzlich zur Bratkartoffelfahrt 2025 ein: \nWir rudern in diesem Jahr wieder zum Wassersporthafen Hasenbüren und lassen uns mal wieder die Bratkartoffeln mit Spiegelei (circa 12 €) oder das Bauernfrühstück (circa 14 €) – auf Wunsch auch ohne Speck – richtig schmecken.  \nWir bitten Euch um pünktliches Erscheinen – 16:45 Uhr (ruderfertig) – und werden die Boote gleich nach Eintreffen einteilen. Gegen 20:00 Uhr rudern wir zurück nach Bremen. Da wir in die Dämmerung hinein rudern\, sind alle Boote entsprechend mit Beleuchtung auszustatten.  \nEs handelt sich um eine Strecke von insgesamt ca. 24 km. Über die Teilnahme von Neumitgliedern an der Veranstaltung würden wir uns sehr freuen\, denn die Strecke ist gut zu schaffen und wir achten bei den Bootsbesetzungen auf eine gute Mischung der Ruder*innen.  \nAnmeldeschluss ist 12.08.2025. Nachmeldungen nehmen wir gerne an. \nBei Interesse meldet Euch über die Liste am Schwarzen Brett oder bei unserer Ruderwartin  unter Angabe von Vor- und Nachname\, Eurem Essenswunsch und ob Ihr eine vegetarische Variante wünscht.
URL:https://www.brc-hansa.de/veranstaltung/bratkartoffelfahrt-3/
LOCATION:BRC Hansa\, Werderstraße 64\, Bremen\, 28199
CATEGORIES:Aktuelles,Breitensport
END:VEVENT
END:VCALENDAR