BEGIN:VCALENDAR
VERSION:2.0
PRODID:-//Bremer Ruder-Club HANSA - ECPv6.15.20//NONSGML v1.0//EN
CALSCALE:GREGORIAN
METHOD:PUBLISH
X-ORIGINAL-URL:https://www.brc-hansa.de
X-WR-CALDESC:Veranstaltungen für Bremer Ruder-Club HANSA
REFRESH-INTERVAL;VALUE=DURATION:PT1H
X-Robots-Tag:noindex
X-PUBLISHED-TTL:PT1H
BEGIN:VTIMEZONE
TZID:Europe/Paris
BEGIN:DAYLIGHT
TZOFFSETFROM:+0100
TZOFFSETTO:+0200
TZNAME:CEST
DTSTART:20240331T010000
END:DAYLIGHT
BEGIN:STANDARD
TZOFFSETFROM:+0200
TZOFFSETTO:+0100
TZNAME:CET
DTSTART:20241027T010000
END:STANDARD
BEGIN:DAYLIGHT
TZOFFSETFROM:+0100
TZOFFSETTO:+0200
TZNAME:CEST
DTSTART:20250330T010000
END:DAYLIGHT
BEGIN:STANDARD
TZOFFSETFROM:+0200
TZOFFSETTO:+0100
TZNAME:CET
DTSTART:20251026T010000
END:STANDARD
BEGIN:DAYLIGHT
TZOFFSETFROM:+0100
TZOFFSETTO:+0200
TZNAME:CEST
DTSTART:20260329T010000
END:DAYLIGHT
BEGIN:STANDARD
TZOFFSETFROM:+0200
TZOFFSETTO:+0100
TZNAME:CET
DTSTART:20261025T010000
END:STANDARD
END:VTIMEZONE
BEGIN:VEVENT
DTSTART;TZID=Europe/Paris:20250208T100000
DTEND;TZID=Europe/Paris:20250208T143000
DTSTAMP:20260423T102412
CREATED:20250125T200426Z
LAST-MODIFIED:20250125T201235Z
UID:8101-1739008800-1739025000@www.brc-hansa.de
SUMMARY:Irgendwas mit Sport
DESCRIPTION:Diese Veranstaltung der Bremer Ruderjugend wird jährlich vom Bremerhavener Ruderverein ausgerichtet und findet in Bremerhaven statt. „Irgendwas mit Sport“ ist eine Team-Building Veranstaltung\, die für Kinder jedes sportlichen Leistungsstandes und Alters geeignet ist. Es werden Aufgaben gestellt\, die mit zwei bis zwanzig Personen gelöst werden müssen\, z.B. Tandem-Pedalo\, laufendes A\, Team-Slackline und einige mehr. Der HANSA Kinder- und Jugendsport nimmt daran teil.
URL:https://www.brc-hansa.de/veranstaltung/irgendwas-mit-sport/
CATEGORIES:Kinder- und Jugendsport
END:VEVENT
END:VCALENDAR