BEGIN:VCALENDAR
VERSION:2.0
PRODID:-//Bremer Ruder-Club HANSA - ECPv6.15.20//NONSGML v1.0//EN
CALSCALE:GREGORIAN
METHOD:PUBLISH
X-ORIGINAL-URL:https://www.brc-hansa.de
X-WR-CALDESC:Veranstaltungen für Bremer Ruder-Club HANSA
REFRESH-INTERVAL;VALUE=DURATION:PT1H
X-Robots-Tag:noindex
X-PUBLISHED-TTL:PT1H
BEGIN:VTIMEZONE
TZID:Europe/Helsinki
BEGIN:DAYLIGHT
TZOFFSETFROM:+0200
TZOFFSETTO:+0300
TZNAME:EEST
DTSTART:20230326T010000
END:DAYLIGHT
BEGIN:STANDARD
TZOFFSETFROM:+0300
TZOFFSETTO:+0200
TZNAME:EET
DTSTART:20231029T010000
END:STANDARD
BEGIN:DAYLIGHT
TZOFFSETFROM:+0200
TZOFFSETTO:+0300
TZNAME:EEST
DTSTART:20240331T010000
END:DAYLIGHT
BEGIN:STANDARD
TZOFFSETFROM:+0300
TZOFFSETTO:+0200
TZNAME:EET
DTSTART:20241027T010000
END:STANDARD
BEGIN:DAYLIGHT
TZOFFSETFROM:+0200
TZOFFSETTO:+0300
TZNAME:EEST
DTSTART:20250330T010000
END:DAYLIGHT
BEGIN:STANDARD
TZOFFSETFROM:+0300
TZOFFSETTO:+0200
TZNAME:EET
DTSTART:20251026T010000
END:STANDARD
END:VTIMEZONE
BEGIN:VTIMEZONE
TZID:Europe/Paris
BEGIN:DAYLIGHT
TZOFFSETFROM:+0100
TZOFFSETTO:+0200
TZNAME:CEST
DTSTART:20230326T010000
END:DAYLIGHT
BEGIN:STANDARD
TZOFFSETFROM:+0200
TZOFFSETTO:+0100
TZNAME:CET
DTSTART:20231029T010000
END:STANDARD
BEGIN:DAYLIGHT
TZOFFSETFROM:+0100
TZOFFSETTO:+0200
TZNAME:CEST
DTSTART:20240331T010000
END:DAYLIGHT
BEGIN:STANDARD
TZOFFSETFROM:+0200
TZOFFSETTO:+0100
TZNAME:CET
DTSTART:20241027T010000
END:STANDARD
BEGIN:DAYLIGHT
TZOFFSETFROM:+0100
TZOFFSETTO:+0200
TZNAME:CEST
DTSTART:20250330T010000
END:DAYLIGHT
BEGIN:STANDARD
TZOFFSETFROM:+0200
TZOFFSETTO:+0100
TZNAME:CET
DTSTART:20251026T010000
END:STANDARD
END:VTIMEZONE
BEGIN:VEVENT
DTSTART;VALUE=DATE:20240911
DTEND;VALUE=DATE:20240916
DTSTAMP:20260421T034354
CREATED:20240824T103313Z
LAST-MODIFIED:20240824T103313Z
UID:7180-1726012800-1726444799@www.brc-hansa.de
SUMMARY:World Rowing Masters
DESCRIPTION:Brandenburg an der Havel\, Regattastrecke Beetzsee \nMehr Infos hier
URL:https://www.brc-hansa.de/veranstaltung/world-rowing-masters/
LOCATION:Beetzsee in Brandenburg an der Havel
CATEGORIES:Aktuelles
END:VEVENT
BEGIN:VEVENT
DTSTART;VALUE=DATE:20240913
DTEND;VALUE=DATE:20240916
DTSTAMP:20260421T034354
CREATED:20240824T105602Z
LAST-MODIFIED:20240824T105647Z
UID:7192-1726185600-1726444799@www.brc-hansa.de
SUMMARY:DRV Wanderrudertreffen
DESCRIPTION:Mehr Infos hier
URL:https://www.brc-hansa.de/veranstaltung/wanderrudertreffen/
LOCATION:Regensburg
END:VEVENT
BEGIN:VEVENT
DTSTART;TZID=Europe/Paris:20240915T103000
DTEND;TZID=Europe/Paris:20240915T130000
DTSTAMP:20260421T034354
CREATED:20240824T105238Z
LAST-MODIFIED:20240909T115424Z
UID:7190-1726396200-1726405200@www.brc-hansa.de
SUMMARY:Rudern zur Venus
DESCRIPTION:BRC HANSA unterstützt die Solidaritätsveranstaltung „Lauf zur Venus“ der Bremer Krebsgesellschaft offiziell von Anfang an. Auch im 24. Jahr  sind wir natürlich mit dabei und „Rudern zur Venus“. Wir treffen uns um 10:30 Uhr umgezogen vor dem Bootshaus und rudern unsere Hausstrecke. Der Spendenbeitrag pro Person beträgt 5\,- EUR und ist am Tag selbst in bar mitzubringen. Bitte zahlreiche Anmeldungen bis spätestens 12.09.2024 um 18 Uhr an folgende: Email-AdresseWir freue uns auf eine rege Teilnahme aller Rudernden im Club!
URL:https://www.brc-hansa.de/veranstaltung/rudern-zur-venus-4/
LOCATION:BRC Hansa\, Werderstraße 64\, Bremen\, 28199
CATEGORIES:Aktuelles
END:VEVENT
END:VCALENDAR