BEGIN:VCALENDAR
VERSION:2.0
PRODID:-//Bremer Ruder-Club HANSA - ECPv6.15.20//NONSGML v1.0//EN
CALSCALE:GREGORIAN
METHOD:PUBLISH
X-ORIGINAL-URL:https://www.brc-hansa.de
X-WR-CALDESC:Veranstaltungen für Bremer Ruder-Club HANSA
REFRESH-INTERVAL;VALUE=DURATION:PT1H
X-Robots-Tag:noindex
X-PUBLISHED-TTL:PT1H
BEGIN:VTIMEZONE
TZID:Europe/Helsinki
BEGIN:DAYLIGHT
TZOFFSETFROM:+0200
TZOFFSETTO:+0300
TZNAME:EEST
DTSTART:20230326T010000
END:DAYLIGHT
BEGIN:STANDARD
TZOFFSETFROM:+0300
TZOFFSETTO:+0200
TZNAME:EET
DTSTART:20231029T010000
END:STANDARD
BEGIN:DAYLIGHT
TZOFFSETFROM:+0200
TZOFFSETTO:+0300
TZNAME:EEST
DTSTART:20240331T010000
END:DAYLIGHT
BEGIN:STANDARD
TZOFFSETFROM:+0300
TZOFFSETTO:+0200
TZNAME:EET
DTSTART:20241027T010000
END:STANDARD
BEGIN:DAYLIGHT
TZOFFSETFROM:+0200
TZOFFSETTO:+0300
TZNAME:EEST
DTSTART:20250330T010000
END:DAYLIGHT
BEGIN:STANDARD
TZOFFSETFROM:+0300
TZOFFSETTO:+0200
TZNAME:EET
DTSTART:20251026T010000
END:STANDARD
END:VTIMEZONE
BEGIN:VEVENT
DTSTART;VALUE=DATE:20240518
DTEND;VALUE=DATE:20240520
DTSTAMP:20260421T105419
CREATED:20240416T105534Z
LAST-MODIFIED:20240416T110016Z
UID:6900-1715990400-1716163199@www.brc-hansa.de
SUMMARY:Jungen- und Mädchen-Regatta Otterndorf
DESCRIPTION:Mehr Infos zur 57. Otterndorfer Jungen- und Mädchen-Regatta gibt es hier
URL:https://www.brc-hansa.de/veranstaltung/jungen-und-maedchen-regatta-otterndorf/
END:VEVENT
END:VCALENDAR