BEGIN:VCALENDAR
VERSION:2.0
PRODID:-//Bremer Ruder-Club HANSA - ECPv6.15.20//NONSGML v1.0//EN
CALSCALE:GREGORIAN
METHOD:PUBLISH
X-ORIGINAL-URL:https://www.brc-hansa.de
X-WR-CALDESC:Veranstaltungen für Bremer Ruder-Club HANSA
REFRESH-INTERVAL;VALUE=DURATION:PT1H
X-Robots-Tag:noindex
X-PUBLISHED-TTL:PT1H
BEGIN:VTIMEZONE
TZID:Europe/Paris
BEGIN:DAYLIGHT
TZOFFSETFROM:+0100
TZOFFSETTO:+0200
TZNAME:CEST
DTSTART:20230326T010000
END:DAYLIGHT
BEGIN:STANDARD
TZOFFSETFROM:+0200
TZOFFSETTO:+0100
TZNAME:CET
DTSTART:20231029T010000
END:STANDARD
BEGIN:DAYLIGHT
TZOFFSETFROM:+0100
TZOFFSETTO:+0200
TZNAME:CEST
DTSTART:20240331T010000
END:DAYLIGHT
BEGIN:STANDARD
TZOFFSETFROM:+0200
TZOFFSETTO:+0100
TZNAME:CET
DTSTART:20241027T010000
END:STANDARD
BEGIN:DAYLIGHT
TZOFFSETFROM:+0100
TZOFFSETTO:+0200
TZNAME:CEST
DTSTART:20250330T010000
END:DAYLIGHT
BEGIN:STANDARD
TZOFFSETFROM:+0200
TZOFFSETTO:+0100
TZNAME:CET
DTSTART:20251026T010000
END:STANDARD
END:VTIMEZONE
BEGIN:VEVENT
DTSTART;TZID=Europe/Paris:20240516T180000
DTEND;TZID=Europe/Paris:20240516T220000
DTSTAMP:20260421T105330
CREATED:20240307T213155Z
LAST-MODIFIED:20240508T200440Z
UID:6760-1715882400-1715896800@www.brc-hansa.de
SUMMARY:Maibowle der Damenabteilung
DESCRIPTION:Wie jedes Jahr im Mai möchten wir uns zu einer gemeinsamen Maibowlen-Ausfahrt mit anschließendem gleichnamigem Kaltgetränk treffen. \nWir sehen uns hierfür um 18.00 Uhr umgezogen vor unserem Bootshaus zum Rudern. Gegen 19.45 Uhr starten wir mit der Maibowle. Essen könnt ihr vor Ort à la carte bestellen. \nWir freuen uns auf einen schönen Abend!
URL:https://www.brc-hansa.de/veranstaltung/maibowle-der-damenabteilung-3/
LOCATION:BRC Hansa\, Werderstraße 64\, Bremen\, 28199
CATEGORIES:Damensitzung
END:VEVENT
END:VCALENDAR