BEGIN:VCALENDAR
VERSION:2.0
PRODID:-//Bremer Ruder-Club HANSA - ECPv6.15.20//NONSGML v1.0//EN
CALSCALE:GREGORIAN
METHOD:PUBLISH
X-WR-CALNAME:Bremer Ruder-Club HANSA
X-ORIGINAL-URL:https://www.brc-hansa.de
X-WR-CALDESC:Veranstaltungen für Bremer Ruder-Club HANSA
REFRESH-INTERVAL;VALUE=DURATION:PT1H
X-Robots-Tag:noindex
X-PUBLISHED-TTL:PT1H
BEGIN:VTIMEZONE
TZID:Europe/Helsinki
BEGIN:DAYLIGHT
TZOFFSETFROM:+0200
TZOFFSETTO:+0300
TZNAME:EEST
DTSTART:20230326T010000
END:DAYLIGHT
BEGIN:STANDARD
TZOFFSETFROM:+0300
TZOFFSETTO:+0200
TZNAME:EET
DTSTART:20231029T010000
END:STANDARD
BEGIN:DAYLIGHT
TZOFFSETFROM:+0200
TZOFFSETTO:+0300
TZNAME:EEST
DTSTART:20240331T010000
END:DAYLIGHT
BEGIN:STANDARD
TZOFFSETFROM:+0300
TZOFFSETTO:+0200
TZNAME:EET
DTSTART:20241027T010000
END:STANDARD
BEGIN:DAYLIGHT
TZOFFSETFROM:+0200
TZOFFSETTO:+0300
TZNAME:EEST
DTSTART:20250330T010000
END:DAYLIGHT
BEGIN:STANDARD
TZOFFSETFROM:+0300
TZOFFSETTO:+0200
TZNAME:EET
DTSTART:20251026T010000
END:STANDARD
END:VTIMEZONE
BEGIN:VTIMEZONE
TZID:Europe/Paris
BEGIN:DAYLIGHT
TZOFFSETFROM:+0100
TZOFFSETTO:+0200
TZNAME:CEST
DTSTART:20230326T010000
END:DAYLIGHT
BEGIN:STANDARD
TZOFFSETFROM:+0200
TZOFFSETTO:+0100
TZNAME:CET
DTSTART:20231029T010000
END:STANDARD
BEGIN:DAYLIGHT
TZOFFSETFROM:+0100
TZOFFSETTO:+0200
TZNAME:CEST
DTSTART:20240331T010000
END:DAYLIGHT
BEGIN:STANDARD
TZOFFSETFROM:+0200
TZOFFSETTO:+0100
TZNAME:CET
DTSTART:20241027T010000
END:STANDARD
BEGIN:DAYLIGHT
TZOFFSETFROM:+0100
TZOFFSETTO:+0200
TZNAME:CEST
DTSTART:20250330T010000
END:DAYLIGHT
BEGIN:STANDARD
TZOFFSETFROM:+0200
TZOFFSETTO:+0100
TZNAME:CET
DTSTART:20251026T010000
END:STANDARD
END:VTIMEZONE
BEGIN:VEVENT
DTSTART;VALUE=DATE:20240322
DTEND;VALUE=DATE:20240330
DTSTAMP:20260420T115128
CREATED:20240110T205047Z
LAST-MODIFIED:20240110T205047Z
UID:6656-1711065600-1711756799@www.brc-hansa.de
SUMMARY:Trainingslager Otterndorf (Junior:innen A/B)
DESCRIPTION:
URL:https://www.brc-hansa.de/veranstaltung/trainingslager-otterndorf-juniorinnen-a-b/
END:VEVENT
BEGIN:VEVENT
DTSTART;TZID=Europe/Paris:20240324T110000
DTEND;TZID=Europe/Paris:20240324T163000
DTSTAMP:20260420T115128
CREATED:20240110T204602Z
LAST-MODIFIED:20240318T123122Z
UID:6652-1711278000-1711297800@www.brc-hansa.de
SUMMARY:Anrudern
DESCRIPTION:Bevor wir die Boote zu Wasser lassen\, ehren wir die Gewinnerinnen und Gewinner des Team Rowing und der Ergo Challenge des Winters 2023/2024.\nNach der Einteilung der Boote geht es zügig auf das Wasser\, und die Boote treffen sich am Weserwehr zum „HIPPHIPPHURRA“ auf eine großartige und erfolgreiche Ruder- und Regattasaison 2024. Nach dem Rudern könnt Ihr Euch in unserer Gastronomie bei leckerem Butterkuchen und Kaffee oder Spagetti (mit Fleisch oder vegetarisch) verwöhnen lassen.\nDer Anmeldeschluss ist Donnerstag\, 21.03. bis 18:00 Uhr.Anmelden könnt Ihr Euch per E-Mail an den Ruderwart oder über die Anmeldeliste am Schwarzen Brett. Bei Fragen meldet euch bitte! Wir hoffen auf zahlreiche Teilnahme!!
URL:https://www.brc-hansa.de/veranstaltung/anrudern-5/
LOCATION:BRC Hansa\, Werderstraße 64\, Bremen\, 28199
CATEGORIES:Aktuelles,Anrudern
END:VEVENT
END:VCALENDAR