BEGIN:VCALENDAR
VERSION:2.0
PRODID:-//Bremer Ruder-Club HANSA - ECPv6.15.20//NONSGML v1.0//EN
CALSCALE:GREGORIAN
METHOD:PUBLISH
X-ORIGINAL-URL:https://www.brc-hansa.de
X-WR-CALDESC:Veranstaltungen für Bremer Ruder-Club HANSA
REFRESH-INTERVAL;VALUE=DURATION:PT1H
X-Robots-Tag:noindex
X-PUBLISHED-TTL:PT1H
BEGIN:VTIMEZONE
TZID:Europe/Paris
BEGIN:DAYLIGHT
TZOFFSETFROM:+0100
TZOFFSETTO:+0200
TZNAME:CEST
DTSTART:20230326T010000
END:DAYLIGHT
BEGIN:STANDARD
TZOFFSETFROM:+0200
TZOFFSETTO:+0100
TZNAME:CET
DTSTART:20231029T010000
END:STANDARD
BEGIN:DAYLIGHT
TZOFFSETFROM:+0100
TZOFFSETTO:+0200
TZNAME:CEST
DTSTART:20240331T010000
END:DAYLIGHT
BEGIN:STANDARD
TZOFFSETFROM:+0200
TZOFFSETTO:+0100
TZNAME:CET
DTSTART:20241027T010000
END:STANDARD
BEGIN:DAYLIGHT
TZOFFSETFROM:+0100
TZOFFSETTO:+0200
TZNAME:CEST
DTSTART:20250330T010000
END:DAYLIGHT
BEGIN:STANDARD
TZOFFSETFROM:+0200
TZOFFSETTO:+0100
TZNAME:CET
DTSTART:20251026T010000
END:STANDARD
END:VTIMEZONE
BEGIN:VEVENT
DTSTART;TZID=Europe/Paris:20240314T190000
DTEND;TZID=Europe/Paris:20240314T213000
DTSTAMP:20260421T135925
CREATED:20240123T222633Z
LAST-MODIFIED:20240123T222810Z
UID:6674-1710442800-1710451800@www.brc-hansa.de
SUMMARY:Mitgliederversammlung
DESCRIPTION:Der Vorstand lädt herzlich zur diesjährigen Mitgliederversammlung ein.
URL:https://www.brc-hansa.de/veranstaltung/mitgliederversammlung-3/
LOCATION:BRC Hansa\, Werderstraße 64\, Bremen\, 28199
CATEGORIES:Mitgliederversammlung
END:VEVENT
END:VCALENDAR